BEGIN:VCALENDAR
VERSION:2.0
PRODID:www.casey.vic.gov.au
X-PUBLISHED-TTL:P1W
BEGIN:VEVENT
UID:69df2dbd60b2f
DTSTART:20260425T060000
SEQUENCE:0
TRANSP:OPAQUE
DTEND:20260425T000000
SUMMARY:ANZAC Day - Pearcedale
CLASS:PUBLIC
DESCRIPTION:For more details go to https://www.casey.vic.gov.au/node/14143
DTSTAMP:20260415T161837Z
END:VEVENT
END:VCALENDAR