BEGIN:VCALENDAR
VERSION:2.0
PRODID:www.casey.vic.gov.au
X-PUBLISHED-TTL:P1W
BEGIN:VEVENT
UID:69e6efdaf0dbb
DTSTART:20260502T130000
SEQUENCE:0
TRANSP:OPAQUE
DTEND:20260502T153000
SUMMARY:8 Week Pottery Course - Saturday Afternoon: Term 2
CLASS:PUBLIC
DESCRIPTION:For more details go to https://www.casey.vic.gov.au/node/14106
DTSTAMP:20260421T133242Z
END:VEVENT
END:VCALENDAR