BEGIN:VCALENDAR
VERSION:2.0
PRODID:www.casey.vic.gov.au
X-PUBLISHED-TTL:P1W
BEGIN:VEVENT
UID:69e0c8db58f33
DTSTART:20260423T180000
SEQUENCE:0
TRANSP:OPAQUE
DTEND:20260423T203000
SUMMARY:8 Week Pottery Course - Thursday Evenings Term 2
CLASS:PUBLIC
DESCRIPTION:For more details go to https://www.casey.vic.gov.au/node/14104
DTSTAMP:20260416T213243Z
END:VEVENT
END:VCALENDAR