BEGIN:VCALENDAR
VERSION:2.0
PRODID:www.casey.vic.gov.au
X-PUBLISHED-TTL:P1W
BEGIN:VEVENT
UID:69e6eb292d16d
DTSTART:20261212T090000
SEQUENCE:0
TRANSP:OPAQUE
DTEND:20261212T110000
SUMMARY:Coastal Villages Dads' Group: December catch-up
CLASS:PUBLIC
DESCRIPTION:For more details go to https://www.casey.vic.gov.au/node/13877
DTSTAMP:20260421T131241Z
END:VEVENT
END:VCALENDAR