BEGIN:VCALENDAR
VERSION:2.0
PRODID:www.casey.vic.gov.au
X-PUBLISHED-TTL:P1W
BEGIN:VEVENT
UID:69eb9b2f96ae0
DTSTART:20260621T090000
SEQUENCE:0
TRANSP:OPAQUE
DTEND:20260621T110000
SUMMARY:Coastal Villages Dads' Group: June catch-up
CLASS:PUBLIC
DESCRIPTION:For more details go to https://www.casey.vic.gov.au/node/13875
DTSTAMP:20260425T023247Z
END:VEVENT
END:VCALENDAR