BEGIN:VCALENDAR
VERSION:2.0
PRODID:www.casey.vic.gov.au
X-PUBLISHED-TTL:P1W
BEGIN:VEVENT
UID:69e89ec7d7efd
DTSTART:20251031T170000
SEQUENCE:0
TRANSP:OPAQUE
DTEND:20251031T210000
SUMMARY:2025 Halloween at the Old Cheese Factory
CLASS:PUBLIC
DESCRIPTION:For more details go to https://www.casey.vic.gov.au/node/13648
DTSTAMP:20260422T201119Z
END:VEVENT
END:VCALENDAR