BEGIN:VCALENDAR
VERSION:2.0
PRODID:www.casey.vic.gov.au
X-PUBLISHED-TTL:P1W
BEGIN:VEVENT
UID:69e6e93324e32
DTSTART:20251109T120000
SEQUENCE:0
TRANSP:OPAQUE
DTEND:20251109T170000
SUMMARY:Casey African Food and Music Festival
CLASS:PUBLIC
DESCRIPTION:For more details go to https://www.casey.vic.gov.au/node/13399
DTSTAMP:20260421T130419Z
END:VEVENT
END:VCALENDAR