BEGIN:VCALENDAR
VERSION:2.0
PRODID:www.casey.vic.gov.au
X-PUBLISHED-TTL:P1W
BEGIN:VEVENT
UID:69e6edcbab6f3
DTSTART:20250925T110000
SEQUENCE:0
TRANSP:OPAQUE
DTEND:20250925T000000
SUMMARY:Messy Play 
CLASS:PUBLIC
DESCRIPTION:For more details go to https://www.casey.vic.gov.au/node/13368
DTSTAMP:20260421T132355Z
END:VEVENT
END:VCALENDAR